BEGIN:VCALENDAR
VERSION:2.0
PRODID:-//ChamberMaster//Event Calendar 2.0//EN
METHOD:PUBLISH
X-PUBLISHED-TTL:P3D
REFRESH-INTERVAL:P3D
CALSCALE:GREGORIAN
BEGIN:VEVENT
DTSTART:20230308T180000Z
DTEND:20230309T010000Z
X-MICROSOFT-CDO-ALLDAYEVENT:FALSE
SUMMARY:Lloydminster & Region Job Fair - 2023
DESCRIPTION:Looking for work? Or maybe you're looking for a career change? This job fair may be for you!\n\n\n\nWe are planning a large scale community job fair to help connect employers with job seekers. \n\n\n\nJob Fair\n\nMarch 8th\, 2023 from 11:00 am - 6:00 pm \n\nGold Horse Casino\n\n\n\nThis community job fair is organized by the following partners:
X-ALT-DESC;FMTTYPE=text/html:<span style="font-family:arial\;"><span style="font-size:16px\;"><span style="color:#333333\;">Looking for work? Or maybe you&#39\;re looking for a career change? This job fair may be for you!<br />\n<br />\nWe are planning a large scale community job fair to help connect employers with job seekers.&nbsp\;<br />\n<br />\n<u><strong>Job Fair</strong></u><br />\nMarch 8th\, 2023 from 11:00 am - 6:00 pm&nbsp\;<br />\nGold Horse Casino</span></span></span><br />\n<br />\n<span style="font-family:arial\;"><span style="font-size:16px\;"><span style="color:#333333\;">This community job fair is organized by the following partners:</span></span></span>
LOCATION:Gold Horse Casino 3910 41 Street
UID:e.2737.3803
SEQUENCE:3
DTSTAMP:20260425T121103Z
URL:https://business.lloydminsterchamber.com/events/details/lloydminster-region-job-fair-2023-3803
END:VEVENT

END:VCALENDAR
